{"text_format":"1","workbook":"xlsx","n_sheets":8,"sheets":["Раздел 0","Раздел 1","Раздел 2","Раздел 3","Раздел 4_1","Раздел 4_2","Раздел 5","Раздел 6"],"not_rendered":{"charts":0,"images":0,"macros":1,"external_links":0,"defined_names":2,"comments":0,"pivot_tables":0},"unopened":[],"bounds":{"document_bytes":16777216,"sheet_cells":100000,"rows_first":2000,"rows_last":500,"rows_between":2000,"halvings":0,"cell_chars":16384,"cell_head_chars":4096},"cells_cut":0,"cells_raw":0,"read":"whole","date_system":"1900"}

{"sheet":"Раздел 0","index":0,"n_rows":24,"n_cols":7,"rows_kept":24,"cut":false,"hidden":false,"merged":[[22,0,22,1],[22,2,22,3],[22,4,22,5],[23,0,23,1],[23,4,23,5],[23,2,23,3],[19,0,19,1],[19,2,19,6],[20,0,21,1],[20,2,20,6],[21,2,21,3],[21,4,21,5],[13,0,14,2],[13,3,14,3],[15,0,15,2],[16,0,16,2],[18,0,18,1],[18,2,18,6],[12,0,12,2],[1,0,1,5],[3,0,3,5],[5,0,5,5],[7,0,7,5],[9,0,9,5],[10,0,10,5]]}
[]
["ФЕДЕРАЛЬНОЕ СТАТИСТИЧЕСКОЕ НАБЛЮДЕНИЕ"]
[]
["КОНФИДЕНЦИАЛЬНОСТЬ ГАРАНТИРУЕТСЯ ПОЛУЧАТЕЛЕМ ИНФОРМАЦИИ"]
[]
["Нарушение порядка представления статистической информации, а равно представление\nнедостоверной статистической информации влечет ответственность, установленную статьей\n13.19 Кодекса Российской Федерации об административных правонарушениях от 30.12.2001 N\n195-ФЗ, а также статьей 3 Закона Российской Федерации от 13.05.1992 N 2761-1 \"Об\nответственности за нарушение порядка представления государственной статистической\nотчетности\""]
[]
["ВОЗМОЖНО ПРЕДОСТАВЛЕНИЕ В ЭЛЕКТРОННОМ ВИДЕ"]
[]
["СВЕДЕНИЯ ОБ АДАПТИВНОЙ ФИЗИЧЕСКОЙ КУЛЬТУРЕ И СПОРТЕ"]
["по состоянию на 31 декабря 2023 г."]
[]
["Предоставляют: ",null,null,"Сроки\nпредоставления",null,"Форма N 3-АФК"]
["юридические лица, осуществляющие деятельность по адаптивной физической культуре и спорту:\nПриказ Росстата:\n- органу местного самоуправления городских округов, муниципальных районов в области физической культуры и спорта,\n- территориальному органу исполнительной власти городов федерального значения в области физической культуры и спорта;",null,null,"15 января после\nотчетного периода",null,"Приказ Росстата:\nОб утверждении формы \nот __________ № ___\nО внесении изменений\n(при наличии)\nот __________ N ___\nот __________ N ___"]
[null,null,null,null,null,"Годовая"]
["органы местного самоуправления городских округов, муниципальных районов в области физической культуры и спорта, территориальные органы исполнительной власти городов федерального значения в области физической культуры и спорта:\n- органу исполнительной власти субъекта Российской Федерации в области физической культуры и спорта;",null,null,"25 января после\nотчетного периода"]
["органы исполнительной власти субъектов Российской Федерации в области физической культуры и спорта:\n- Министерству спорта Российской Федерации",null,null,"10 февраля после\nотчетного периода"]
[]
["Наименование отчитывающейся организации ",null,"Министерство физической культуры и спорта Забайкалського края"]
["Почтовый адрес ",null,"Забайкальский край город Чита улица Анохина 91 корпус 1 "]
["Код формы по ОКУД",null,"Код"]
[null,null,"отчитывающейся\nорганизации по ОКПО"]
[1,null,2,null,3,null,4]
["0609405",null,74257]

{"sheet":"Раздел 1","index":1,"n_rows":33,"n_cols":23,"rows_kept":33,"cut":false,"hidden":false,"merged":[[0,0,0,20],[1,0,1,20],[2,0,4,0],[2,1,4,1],[2,2,4,2],[2,3,2,7],[2,8,2,20],[3,3,4,3],[3,4,4,4],[3,5,3,7],[3,8,4,8],[3,9,3,14],[3,15,4,15],[3,16,3,20]]}
["Раздел I. Физкультурно-оздоровительная работа"]
["Коды по ОКЕИ: единица - 642; человек — 792"]
["Учреждения, осуществляющие работу с инвалидами","№ \nстроки","Количество учреждений, объединений, организаций, всего \n(ед.)","Численность штатных работников в области адаптивной физической культуры и спорта",null,null,null,null,"Численность занимающихся адаптивной физической культурой и спортом"]
[null,null,null,"Всего","из гр. 4 в сельской местности","из гр. 4 образование по специальности \"Адаптивная физическая культура и спорт\"",null,null,"Всего"," в том числе в возрасте (из гр. 9):",null,null,null,null,null,"в сельской местности","из общей численности занимающихся (гр. 9):"]
[null,null,null,null,null,"высшее","среднее","иные специалисты",null,"от 0 до 3 лет","от 4 до 5 лет","от 6 до 18 лет","от 19 до 59 лет","от 60 до 79 лет","от 80 лет и старше",null,"лица, имеющие инвалидность по общему заболеванию","лица с интеллектуальными нарушениями","лица с нарушением зрения","лица с нарушением слуха","лица с нарушением ОДА",null,"Раздел 4.1"]
[1,2,3,4,5,6,7,8,9,10,11,12,13,14,15,16,17,18,19,20,21,null,4]
["Всего учреждений, объединений, организаций\n(сумма строк 02, 13, 21, 25, 26)","01",18,10,1,3,6,1,18327,0,4876,4586,5491,3373,1,328,13512,815,798,1785,1417,null,{"$f":"'Раздел 4_1'!$D$7","v":3}]
["В сфере физической культуры и спорта (сумма строк 03, 04, 05, 06, 07, 08, 09, 10, 11, 12) ","02",6,3,0,2,1,0,101,0,0,31,61,9,0,1,29,14,8,27,23]
["в том числе центры спортивной подготовки по спорту инвалидов ","03",0,0,0,0,0,0,0,0,0,0,0,0,0,0,0,0,0,0,0]
["физкультурно- оздоровительные клубы инвалидов ","04",0,0,0,0,0,0,0,0,0,0,0,0,0,0,0,0,0,0,0]
["ДЮСАШ","05",0,0,0,0,0,0,0,0,0,0,0,0,0,0,0,0,0,0,0]
["СДЮСАШ","06",0,0,0,0,0,0,0,0,0,0,0,0,0,0,0,0,0,0,0]
["спортивные учреждения по спорту инвалидов ","07",0,0,0,0,0,0,0,0,0,0,0,0,0,0,0,0,0,0,0]
["отделения, группы, смешанные группы по адаптивной физической культуре и спорту ","08",2,0,0,0,0,0,3,0,0,0,3,0,0,1,0,0,0,0,3]
["училища олимпийского резерва ","09",0,0,0,0,0,0,0,0,0,0,0,0,0,0,0,0,0,0,0]
["центры спортивной подготовки ",10,0,0,0,0,0,0,0,0,0,0,0,0,0,0,0,0,0,0,0]
["СДЮШОР, ДЮСШ, ДООЦ ",11,0,0,0,0,0,0,0,0,0,0,0,0,0,0,0,0,0,0,0]
["другие учреждения и организации ",12,4,3,0,2,1,0,98,0,0,31,58,9,0,0,29,14,8,27,20]
["В сфере образования (сумма строк 14 - 20) ",13,2,2,1,1,1,0,17055,0,4873,4247,4814,3121,0,319,13251,682,591,1549,985]
["в том числе: дошкольные образовательные организации ",14,0,0,0,0,0,0,5,0,5,0,0,0,0,1,4,0,0,0,1]
["организации дополнительного образования ",15,0,1,0,1,0,0,37,0,5,12,18,2,0,0,34,1,1,0,1]
["общеобразовательные организации ",16,0,0,0,0,0,0,176,0,0,176,0,0,0,61,36,7,96,21,19]
["отдельные организации, осуществляющие образовательную деятельность по адаптированным основным образовательным программам ",17,0,0,1,0,0,0,167,0,0,133,34,0,0,0,84,76,1,1,5]
["образовательные организации высшего образования ",18,0,0,0,0,0,0,0,0,0,0,0,0,0,0,0,0,0,0,0]
["профессиональные образовательные организации ",19,0,0,0,0,0,0,0,0,0,0,0,0,0,0,0,0,0,0,0]
["другие учреждения и организации ",20,2,1,0,0,1,0,16670,0,4863,3926,4762,3119,0,257,13093,598,493,1527,959]
["В сфере труда и социальной защиты (сумма строк 22 - 24) ",21,7,4,0,0,3,1,833,0,2,247,411,173,0,8,152,114,90,160,320]
["в том числе: психо-неврологические интернаты ",22,2,3,0,0,3,0,84,0,2,52,30,0,0,0,10,74,0,0,320]
["реабилитационные центры",23,4,0,0,0,0,0,695,0,0,188,363,144,0,0,123,27,81,150,0]
["другие учреждения и организации",24,1,1,0,0,0,1,54,0,0,7,18,29,0,8,19,13,9,10,0]
["В сфере здравоохранения",25,1,0,0,0,0,0,143,0,0,28,80,35,0,0,58,0,24,25,30]
["В сфере Всероссийских общественных организаций",26,2,1,0,0,1,0,195,0,1,33,125,35,1,0,22,5,85,24,59]
["Из общего числа (строка 1)\n - в сельской местности",27,15,1,1,0,0,1,328,0,1,119,132,76,0,328,133,21,46,57,71]

{"sheet":"Раздел 2","index":2,"n_rows":23,"n_cols":18,"rows_kept":23,"cut":false,"hidden":false,"merged":[[3,16,4,16],[2,2,2,13],[2,14,2,16],[0,0,0,17],[1,0,1,17],[2,0,4,0],[2,1,4,1],[2,17,4,17],[3,2,4,2],[3,3,4,3],[3,4,3,7],[3,8,4,8],[3,9,4,9],[3,10,4,10],[3,11,4,11],[3,12,4,12],[3,13,4,13],[3,14,4,14],[3,15,4,15]]}
["Раздел II. Спортивные сооружения, приспособленные к занятиям инвалидов"]
["Код по ОКЕИ: единица — 642;человек - 792"]
["Наименование спортивного\nсооружения","№\nстроки","Количество спортсооружений (ед.)",null,null,null,null,null,null,null,null,null,null,null,"Численность сотрудников (чел.)",null,null,"Из общего числа спортивных сооружений (гр. 3)\nв сельской местности"]
[null,null,"Всего","из гр. 3 оснащенных","в том числе по формам собственности (из гр. 3):",null,null,null,"Существующие спортивные сооружения, которые в результате проведения капитального ремонта, реконструкции, модернизации полностью соответствуют требованиям доступности объектов и услуг для инвалидов","Вновь введенные в эксплуатацию спортивные сооружения, полностью соответствующие требованиям доступности объектов и услуг для инвалидов, в которых предоставляются услуги населению","Имеющие утвержденные паспорта доступности объектов и предоставляемых на них услуг","На которых обеспечиваются условия индивидуальной мобильности инвалидов и возможность для самостоятельного их передвижения по зданию и (при необходимости) по территории объекта","На которых обеспечено сопровождение инвалидов, имеющих стойкие расстройства функции зрения, слуха и самостоятельного передвижения, и оказание им помощи","На которых предоставляются услуги с использованием русского жестового языка, с допуском сурдопереводчика и тифлосурдопереводчика","Предоставляющих услуги инвалидам","Прошедших инструктирование или обучение для работы с инвалидами","Предоставляющих услуги, на которых возложено оказание инвалидам помощи при предоставлении им услуг"]
[null,null,null,null,"федеральная","субъектов Российской Федерации","муниципальная","другая"]
[1,2,3,4,5,6,7,8,9,10,11,12,13,14,15,16,17,18]
["Всего спортивных сооружений\n(сумма строк 29 - 32, 34, 35, 38 - 44)",28,120,46,0,10,109,1,0,5,21,8,0,0,11,10,1,12]
["в том числе\n    Стадионы с трибунами на 1500 мести более",29,1,0,0,0,1,0,0,0,0,0,0,0,0,0,0,0]
["    Плоскостные спортивные сооружения ",30,69,32,0,2,67,0,0,3,11,1,0,0,0,0,0,8]
["    Спортивные залы ",31,31,12,0,3,28,0,0,2,6,7,0,0,5,5,0,3]
["    Дворцы спорта - всего  ",32,0,0,0,0,0,0,0,0,0,0,0,0,0,0,0,0]
["        - из них с искусственным льдом  ",33,0,0,0,0,0,0,0,0,0,0,0,0,0,0,0,0]
["    Крытые спортивные объекты с искусственным льдом ",34,0,0,0,0,0,0,0,0,0,0,0,0,0,0,0,0]
["    Манежи - всего ",35,0,0,0,0,0,0,0,0,0,0,0,0,0,0,0,0]
["    из них: \n        - легкоатлетические ",36,0,0,0,0,0,0,0,0,0,0,0,0,0,0,0,0]
["        - футбольные",37,0,0,0,0,0,0,0,0,0,0,0,0,0,0,0,0]
["    Велотреки, велодромы",38,0,0,0,0,0,0,0,0,0,0,0,0,0,0,0,0]
["    Плавательные бассейны",39,4,1,0,0,4,0,0,0,0,0,0,0,1,4,0,0]
["    Лыжные базы",40,0,0,0,0,0,0,0,0,0,0,0,0,0,0,0,0]
["    Биатлонные комплексы",41,0,0,0,0,0,0,0,0,0,0,0,0,0,0,0,0]
["    Сооружения для стрелковых видов спорта",42,3,1,0,0,3,0,0,0,0,0,0,0,0,0,0,0]
["    Гребные базы и каналы",43,0,0,0,0,0,0,0,0,0,0,0,0,0,0,0,0]
["    Другие спортивные сооружения",44,12,0,0,5,6,1,0,0,4,0,0,0,5,1,1,1]

{"sheet":"Раздел 3","index":3,"n_rows":14,"n_cols":8,"rows_kept":14,"cut":false,"hidden":false,"merged":[[0,0,0,7],[1,0,1,7],[2,0,4,0],[2,1,4,1],[2,2,2,5],[2,6,4,6],[2,7,4,7],[3,2,4,2],[3,3,4,3],[3,4,3,5]]}
["Раздел III. Финансирование адаптивной физической культуры и спорта"]
["Код по ОКЕИ: тысяча рублей - 384 (с одним десятичным знаком)"]
["Статьи расходов","№ \nстроки","Фактически выделено бюджетных средств",null,null,null,"Получено из внебюджетных источников","Израсходовано на развитие адаптивной физической культуры и спорта, всего"]
[null,null,"Всего","из федерального бюджета","из консолидированного бюджета субъекта Российской Федерации"]
[null,null,null,null,"бюджет субъекта Российской Федерации ","бюджет муниципального образования"]
[1,2,3,4,5,6,7,8]
["Расходы - всего \n(сумма строк 46-52) ",45,24227.200000000001,127.6,3866.7,20232.900000000001,84.7,24311.9]
["из них: \n    Проведение спортивных\n    мероприятий среди \n    инвалидов",46,18606.2,0,1500,17106.2,57.7,18663.900000000001]
["    Приобретение \n    спортивного \n    оборудования и \n    инвентаря",47,485.2,127.6,347.6,10,10,495.2]
["    Капитальный ремонт \n    спортсооружений",48,345,0,0,345,0,345]
["    Инвестиции на \n    реконструкцию\n    и строительство \n    спортивных \n    сооружений",49,0,0,0,0,0,0]
["    Заработная плата \n    работников адаптивной \n    физической культуры \n    и спорта",50,4688.8999999999996,0,1937.2,2751.7,0,4688.8999999999996]
["    На содержание \n    спортивных сооружений, \n    приспособленных к \n    занятиям инвалидов",51,0,0,0,0,0,0]
["    Другие",52,101.9,0,81.900000000000006,20,17,118.9]

{"sheet":"Раздел 4_1","index":4,"n_rows":80,"n_cols":22,"rows_kept":80,"cut":false,"hidden":false,"merged":[[0,0,0,17],[1,0,1,17],[2,0,4,0],[2,1,4,1],[2,2,4,2],[2,3,2,17],[3,3,4,3],[3,4,4,4],[3,5,4,5],[3,6,3,9],[3,10,3,13],[3,14,3,17]]}
["Раздел IV. Развитие видов спорта"]
["Коды по ОКЕИ: единица - 642; человек — 792"]
["Спортивные дисциплины  (в соответствии с ВРВС по видам спорта инвалидов)","№ \nстроки","Число отделений (ед.)","Численность занимающихся на этапах подготовки (чел.)"]
[null,null,null,"Всего","из них в возрасте от 6 до 18 лет","из гр. 4 в сельской местности","спортивно-оздоровительной",null,null,null,"начальной подготовки",null,null,null,"учебно-тренировочной"]
[null,null,null,null,null,null,"Спорт лиц с интеллектуальными нарушениями","Спорт слепых","Спорт глухих","Спорт ОДА","Спорт лиц с интеллектуальными нарушениями","Спорт слепых","Спорт глухих","Спорт ОДА","Спорт лиц с интеллектуальными нарушениями","Спорт слепых","Спорт глухих","Спорт ОДА",null,"Раздел4_2","Раздел1","Раздел4_2"]
[1,2,3,4,5,6,7,8,9,10,11,12,13,14,15,16,17,18,null,27,9,"сумма(19-26)"]
["Итого\n(сумма строк 63 - 125)",53,2,3,0,1,0,0,0,0,0,0,0,0,0,0,0,3,null,{"$f":"'Раздел 4_2'!K7","v":0},{"$f":"'Раздел 1'!$I$7","v":18327},{"$f":"SUM('Раздел 4_2'!$C7:$J7)","v":0}]
["    в том числе из строки 53:\n    центры спортивной \n    подготовки по\n    спорту инвалидов",54,0,0,0,0,0,0,0,0,0,0,0,0,0,0,0,0,null,{"$f":"'Раздел 4_2'!K8","v":0},null,{"$f":"SUM('Раздел 4_2'!$C8:$J8)","v":0}]
["    физкультурно-спортивные\n    клубы инвалидов",55,0,0,0,0,0,0,0,0,0,0,0,0,0,0,0,0,null,{"$f":"'Раздел 4_2'!K9","v":0},null,{"$f":"SUM('Раздел 4_2'!$C9:$J9)","v":0}]
["    ДЮСАШ",56,0,0,0,0,0,0,0,0,0,0,0,0,0,0,0,0,null,{"$f":"'Раздел 4_2'!K10","v":0},null,{"$f":"SUM('Раздел 4_2'!$C10:$J10)","v":0}]
["    СДЮСАШ",57,0,0,0,0,0,0,0,0,0,0,0,0,0,0,0,0,null,{"$f":"'Раздел 4_2'!K11","v":0},null,{"$f":"SUM('Раздел 4_2'!$C11:$J11)","v":0}]
["    спортивные учреждения \n    по спорту инвалидов",58,0,0,0,0,0,0,0,0,0,0,0,0,0,0,0,0,null,{"$f":"'Раздел 4_2'!K12","v":0},null,{"$f":"SUM('Раздел 4_2'!$C12:$J12)","v":0}]
["    училища олимпийского резерва",59,0,0,0,0,0,0,0,0,0,0,0,0,0,0,0,0,null,{"$f":"'Раздел 4_2'!K13","v":0},null,{"$f":"SUM('Раздел 4_2'!$C13:$J13)","v":0}]
["    центры спортивной подготовки",60,0,0,0,0,0,0,0,0,0,0,0,0,0,0,0,0,null,{"$f":"'Раздел 4_2'!K14","v":0},null,{"$f":"SUM('Раздел 4_2'!$C14:$J14)","v":0}]
["    ШВСМ, СДЮШОР, \n    ДЮСШ, ДООЦ",61,2,3,0,1,0,0,0,0,0,0,0,0,0,0,0,3,null,{"$f":"'Раздел 4_2'!K15","v":0},null,{"$f":"SUM('Раздел 4_2'!$C15:$J15)","v":0}]
["    другие учреждения \n    и организации",62,0,0,0,0,0,0,0,0,0,0,0,0,0,0,0,0,null,{"$f":"'Раздел 4_2'!K16","v":0},null,{"$f":"SUM('Раздел 4_2'!$C16:$J16)","v":0}]
["Академическая гребля",63,0,0,0,0,0,"X","X",0,0,"X","X",0,0,"X","X",0,null,{"$f":"'Раздел 4_2'!K17","v":0},null,{"$f":"SUM('Раздел 4_2'!$C17:$J17)","v":0}]
["Армрестлинг",64,0,0,0,0,"X","X",0,0,"X","X",0,0,"X","X",0,0]
["Армспорт",65,0,0,0,0,"X",0,"X","X","X",0,"X","X","X",0,"X","X",null,{"$f":"'Раздел 4_2'!K19","v":0},null,{"$f":"SUM('Раздел 4_2'!$C19:$J19)","v":0}]
["Бадминтон",66,0,0,0,0,0,"X",0,0,0,"X",0,0,0,"X",0,0,null,{"$f":"'Раздел 4_2'!K20","v":0},null,{"$f":"SUM('Раздел 4_2'!$C20:$J20)","v":0}]
["Баскетбол",67,0,0,0,0,0,"X",0,"X",0,"X",0,"X",0,"X",0,"X",null,{"$f":"'Раздел 4_2'!K21","v":0},null,{"$f":"SUM('Раздел 4_2'!$C21:$J21)","v":0}]
["Баскетбол 3 х 3",68,0,0,0,0,0,"X","X","X",0,"X","X","X",0,"X","X","X"]
["Баскетбол на колясках",69,0,0,0,0,"X","X","X",0,"X","X","X",0,"X","X","X",0,null,{"$f":"'Раздел 4_2'!K23","v":0},null,{"$f":"SUM('Раздел 4_2'!$C23:$J23)","v":0}]
["Биатлон",70,0,0,0,0,"X",0,"X",0,"X",0,"X",0,"X",0,"X",0,null,{"$f":"'Раздел 4_2'!K24","v":0},null,{"$f":"SUM('Раздел 4_2'!$C24:$J24)","v":0}]
["Борьба",71,0,0,0,0,"X",0,"X","X","X",0,"X","X","X",0,"X","X",null,{"$f":"'Раздел 4_2'!K25","v":0},null,{"$f":"SUM('Раздел 4_2'!$C25:$J25)","v":0}]
["Боулинг",72,0,0,0,0,"X","X",0,"X","X","X",0,"X","X","X",0,"X",null,{"$f":"'Раздел 4_2'!K26","v":0},null,{"$f":"SUM('Раздел 4_2'!$C26:$J26)","v":0}]
["Боулинг 10",73,0,0,0,0,"X",0,"X","X","X",0,"X","X","X",0,"X","X",null,{"$f":"'Раздел 4_2'!K27","v":0},null,{"$f":"SUM('Раздел 4_2'!$C27:$J27)","v":0}]
["Бочча",74,0,0,0,0,"X","X","X",0,"X","X","X",0,"X","X","X",0,null,{"$f":"'Раздел 4_2'!K28","v":0},null,{"$f":"SUM('Раздел 4_2'!$C28:$J28)","v":0}]
["Велоспорт - маунтинбайк",75,0,0,0,0,"X","X",0,"X","X","X",0,"X","X","X",0,"X",null,{"$f":"'Раздел 4_2'!K29","v":0},null,{"$f":"SUM('Раздел 4_2'!$C29:$J29)","v":0}]
["Велоспорт - тандем",76,0,0,0,0,"X",0,"X","X","X",0,"X","X","X",0,"X","X",null,{"$f":"'Раздел 4_2'!K30","v":0},null,{"$f":"SUM('Раздел 4_2'!$C30:$J30)","v":0}]
["Велоспорт - шоссе, трек",77,0,0,0,0,0,"X",0,0,0,"X",0,0,0,"X",0,0,null,{"$f":"'Раздел 4_2'!K31","v":0},null,{"$f":"SUM('Раздел 4_2'!$C31:$J31)","v":0}]
["Волейбол 6 x 6",78,0,0,0,0,"X","X",0,"X","X","X",0,"X","X","X",0,"X",null,{"$f":"'Раздел 4_2'!K32","v":0},null,{"$f":"SUM('Раздел 4_2'!$C32:$J32)","v":0}]
["Волейбол пляжный",79,0,0,0,0,"X","X",0,"X","X","X",0,"X","X","X",0,"X",null,{"$f":"'Раздел 4_2'!K33","v":0},null,{"$f":"SUM('Раздел 4_2'!$C33:$J33)","v":0}]
["Волейбол сидя",80,0,0,0,0,"X","X","X",0,"X","X","X",0,"X","X","X",0,null,{"$f":"'Раздел 4_2'!K34","v":0},null,{"$f":"SUM('Раздел 4_2'!$C34:$J34)","v":0}]
["Вольная борьба",81,0,0,0,0,"X","X",0,"X","X","X",0,"X","X","X",0,"X",null,{"$f":"'Раздел 4_2'!K35","v":0},null,{"$f":"SUM('Раздел 4_2'!$C35:$J35)","v":0}]
["Гандбол",82,0,0,0,0,0,"X",0,"X",0,"X",0,"X",0,"X",0,"X",null,{"$f":"'Раздел 4_2'!K36","v":0},null,{"$f":"SUM('Раздел 4_2'!$C36:$J36)","v":0}]
["Голбол (B1, B2, B3)",83,0,0,0,0,"X",0,"X","X","X",0,"X","X","X",0,"X","X",null,{"$f":"'Раздел 4_2'!K37","v":0},null,{"$f":"SUM('Раздел 4_2'!$C37:$J37)","v":0}]
["Гольф",84,0,0,0,0,"X","X",0,"X","X","X",0,"X","X","X",0,"X",null,{"$f":"'Раздел 4_2'!K38","v":0},null,{"$f":"SUM('Раздел 4_2'!$C38:$J38)","v":0}]
["Горнолыжный спорт",85,0,0,0,0,0,0,0,0,0,0,0,0,0,0,0,0,null,{"$f":"'Раздел 4_2'!K39","v":0},null,{"$f":"SUM('Раздел 4_2'!$C39:$J39)","v":0}]
["Гребля на байдарках и каноэ",86,0,0,0,0,"X","X","X",0,"X","X","X",0,"X","X","X",0,null,{"$f":"'Раздел 4_2'!K40","v":0},null,{"$f":"SUM('Раздел 4_2'!$C40:$J40)","v":0}]
["Греко-римская борьба",87,0,0,0,0,"X","X",0,"X","X","X",0,"X","X","X",0,"X",null,{"$f":"'Раздел 4_2'!K41","v":0},null,{"$f":"SUM('Раздел 4_2'!$C41:$J41)","v":0}]
["Дартс",88,0,0,0,0,"X","X","X",0,"X","X","X",0,"X","X","X",0,null,{"$f":"'Раздел 4_2'!K42","v":0},null,{"$f":"SUM('Раздел 4_2'!$C42:$J42)","v":0}]
["Дзюдо",89,0,0,0,0,0,0,0,"X",0,0,0,"X",0,0,0,"X",null,{"$f":"'Раздел 4_2'!K43","v":0},null,{"$f":"SUM('Раздел 4_2'!$C43:$J43)","v":0}]
["Каратэ",90,0,0,0,0,"X","X",0,"X","X","X",0,"X","X","X",0,"X",null,{"$f":"'Раздел 4_2'!K44","v":0},null,{"$f":"SUM('Раздел 4_2'!$C44:$J44)","v":0}]
["Керлинг 4 x 4",91,0,0,0,0,"X","X",0,"X","X","X",0,"X","X","X",0,"X",null,{"$f":"'Раздел 4_2'!K45","v":0},null,{"$f":"SUM('Раздел 4_2'!$C45:$J45)","v":0}]
["Керлинг на колясках",92,0,0,0,0,"X","X","X",0,"X","X","X",0,"X","X","X",0,null,{"$f":"'Раздел 4_2'!K46","v":0},null,{"$f":"SUM('Раздел 4_2'!$C46:$J46)","v":0}]
["Конный спорт",93,0,0,0,0,0,"X","X",0,0,"X","X",0,0,"X","X",0,null,{"$f":"'Раздел 4_2'!K47","v":0},null,{"$f":"SUM('Раздел 4_2'!$C47:$J47)","v":0}]
["Легкая атлетика",94,0,0,0,0,0,0,0,0,0,0,0,0,0,0,0,0,null,{"$f":"'Раздел 4_2'!K48","v":0},null,{"$f":"SUM('Раздел 4_2'!$C48:$J48)","v":0}]
["Лыжные гонки",95,0,0,0,0,0,0,0,0,0,0,0,0,0,0,0,0,null,{"$f":"'Раздел 4_2'!K49","v":0},null,{"$f":"SUM('Раздел 4_2'!$C49:$J49)","v":0}]
["Мини-футбол (футзал)",96,0,0,0,0,0,"X",0,"X",0,"X",0,"X",0,"X",0,"X"]
["Мини-футбол (футзал) 5 x 5 (B1, B2, B3)",97,0,0,0,0,"X",0,"X","X","X",0,"X","X","X",0,"X","X",null,{"$f":"'Раздел 4_2'!K51","v":0},null,{"$f":"SUM('Раздел 4_2'!$C51:$J51)","v":0}]
["Настольный теннис",98,0,0,0,0,0,0,0,0,0,0,0,0,0,0,0,0,null,{"$f":"'Раздел 4_2'!K52","v":0},null,{"$f":"SUM('Раздел 4_2'!$C52:$J52)","v":0}]
["Парусный спорт",99,0,0,0,0,"X","X","X",0,"X","X","X",0,"X","X","X",0,null,{"$f":"'Раздел 4_2'!K53","v":0},null,{"$f":"SUM('Раздел 4_2'!$C53:$J53)","v":0}]
["Пауэрлифтинг",100,0,0,0,0,0,0,"X",0,0,0,"X",0,0,0,"X",0,null,{"$f":"'Раздел 4_2'!K54","v":0},null,{"$f":"SUM('Раздел 4_2'!$C54:$J54)","v":0}]
["Плавание",101,0,0,0,0,0,0,0,0,0,0,0,0,0,0,0,0,null,{"$f":"'Раздел 4_2'!K55","v":0},null,{"$f":"SUM('Раздел 4_2'!$C55:$J55)","v":0}]
["Пулевая стрельба",102,0,0,0,0,"X",0,0,0,"X",0,0,0,"X",0,0,0,null,{"$f":"'Раздел 4_2'!K56","v":0},null,{"$f":"SUM('Раздел 4_2'!$C56:$J56)","v":0}]
["Самбо",103,0,0,0,0,"X",0,0,"X","X",0,0,"X","X",0,0,"X"]
["Сноуборд",104,0,0,0,0,"X","X",0,0,"X","X",0,0,"X","X",0,0,null,{"$f":"'Раздел 4_2'!K58","v":0},null,{"$f":"SUM('Раздел 4_2'!$C58:$J58)","v":0}]
["Спортивная гимнастика",105,0,0,0,0,0,"X","X","X",0,"X","X","X",0,"X","X","X",null,{"$f":"'Раздел 4_2'!K59","v":0},null,{"$f":"SUM('Раздел 4_2'!$C59:$J59)","v":0}]
["Регби на колясках",106,0,0,0,0,"X","X","X",0,"X","X","X",0,"X","X","X",0,null,{"$f":"'Раздел 4_2'!K60","v":0},null,{"$f":"SUM('Раздел 4_2'!$C60:$J60)","v":0}]
["Спортивное ориентирование",107,0,0,0,0,"X","X",0,0,"X","X",0,0,"X","X",0,0,null,{"$f":"'Раздел 4_2'!K61","v":0},null,{"$f":"SUM('Раздел 4_2'!$C61:$J61)","v":0}]
["Спортивный туризм",108,0,0,0,0,"X",0,"X","X","X",0,"X","X","X",0,"X","X",null,{"$f":"'Раздел 4_2'!K62","v":0},null,{"$f":"SUM('Раздел 4_2'!$C62:$J62)","v":0}]
["Стрельба из лука",109,2,3,0,1,"X","X","X",0,"X","X","X",0,"X","X","X",3,null,{"$f":"'Раздел 4_2'!K63","v":0},null,{"$f":"SUM('Раздел 4_2'!$C63:$J63)","v":0}]
["Танцы на колясках",110,0,0,0,0,"X","X","X",0,"X","X","X",0,"X","X","X",0,null,{"$f":"'Раздел 4_2'!K64","v":0},null,{"$f":"SUM('Раздел 4_2'!$C64:$J64)","v":0}]
["Теннис",111,0,0,0,0,0,"X",0,"X",0,"X",0,"X",0,"X",0,"X",null,{"$f":"'Раздел 4_2'!K65","v":0},null,{"$f":"SUM('Раздел 4_2'!$C65:$J65)","v":0}]
["Теннис на колясках",112,0,0,0,0,"X","X","X",0,"X","X","X",0,"X","X","X",0,null,{"$f":"'Раздел 4_2'!K66","v":0},null,{"$f":"SUM('Раздел 4_2'!$C66:$J66)","v":0}]
["Триатлон",113,0,0,0,0,"X","X","X",0,"X","X","X",0,"X","X","X",0,null,{"$f":"'Раздел 4_2'!K67","v":0},null,{"$f":"SUM('Раздел 4_2'!$C67:$J67)","v":0}]
["Торбол (B1, B2, B3)",114,0,0,0,0,"X",0,"X","X","X",0,"X","X","X",0,"X","X",null,{"$f":"'Раздел 4_2'!K68","v":0},null,{"$f":"SUM('Раздел 4_2'!$C68:$J68)","v":0}]
["Тхэквондо",115,0,0,0,0,0,"X",0,0,0,"X",0,0,0,"X",0,0,null,{"$f":"'Раздел 4_2'!K69","v":0},null,{"$f":"SUM('Раздел 4_2'!$C69:$J69)","v":0}]
["Фехтование",116,0,0,0,0,"X","X","X",0,"X","X","X",0,"X","X","X",0,null,{"$f":"'Раздел 4_2'!K70","v":0},null,{"$f":"SUM('Раздел 4_2'!$C70:$J70)","v":0}]
["Футбол",117,0,0,0,0,0,"X","X","X",0,"X","X","X",0,"X","X","X",null,{"$f":"'Раздел 4_2'!K71","v":0},null,{"$f":"SUM('Раздел 4_2'!$C71:$J71)","v":0}]
["Футбол 11 x 11",118,0,0,0,0,"X","X",0,"X","X","X",0,"X","X","X",0,"X",null,{"$f":"'Раздел 4_2'!K72","v":0},null,{"$f":"SUM('Раздел 4_2'!$C72:$J72)","v":0}]
["Футбол ампутантов",119,0,0,0,0,"X","X","X",0,"X","X","X",0,"X","X","X",0,null,{"$f":"'Раздел 4_2'!K73","v":0},null,{"$f":"SUM('Раздел 4_2'!$C73:$J73)","v":0}]
["Футбол лиц с заболеванием ЦП",120,0,0,0,0,"X","X","X",0,"X","X","X",0,"X","X","X",0,null,{"$f":"'Раздел 4_2'!K74","v":0},null,{"$f":"SUM('Раздел 4_2'!$C74:$J74)","v":0}]
["Хоккей (6 x 6)",121,0,0,0,0,"X","X",0,"X","X","X",0,"X","X","X",0,"X",null,{"$f":"'Раздел 4_2'!K75","v":0},null,{"$f":"SUM('Раздел 4_2'!$C75:$J75)","v":0}]
["Хоккей-следж",122,0,0,0,0,"X","X","X",0,"X","X","X",0,"X","X","X",0,null,{"$f":"'Раздел 4_2'!K76","v":0},null,{"$f":"SUM('Раздел 4_2'!$C76:$J76)","v":0}]
["Шахматы",123,0,0,0,0,"X",0,0,0,"X",0,0,0,"X",0,0,0,null,{"$f":"'Раздел 4_2'!K77","v":0},null,{"$f":"SUM('Раздел 4_2'!$C77:$J77)","v":0}]
["Шашки",124,0,0,0,0,"X",0,0,0,"X",0,0,0,"X",0,0,0,null,{"$f":"'Раздел 4_2'!K78","v":0},null,{"$f":"SUM('Раздел 4_2'!$C78:$J78)","v":0}]
["Другие виды спорта (спортивные дисциплины), не входящие в виды спорта инвалидов",125,0,0,0,0,0,0,0,0,0,0,0,0,0,0,0,0,null,{"$f":"'Раздел 4_2'!K79","v":0},null,{"$f":"SUM('Раздел 4_2'!$C79:$J79)","v":0}]
["Из строки 53 - в сельской местности",126,0,1,0,1,0,0,0,0,0,0,0,0,0,0,0,1,null,{"$f":"'Раздел 4_2'!K80","v":0},null,{"$f":"SUM('Раздел 4_2'!$C80:$J80)","v":0}]

{"sheet":"Раздел 4_2","index":5,"n_rows":80,"n_cols":20,"rows_kept":80,"cut":false,"hidden":false,"merged":[[0,0,0,17],[2,0,4,0],[2,1,4,1],[2,2,2,9],[2,10,2,16],[1,0,1,17],[2,17,4,17],[3,2,3,5],[3,6,3,9],[3,10,4,10],[3,11,3,13],[3,14,4,14],[3,15,4,15],[3,16,4,16]]}
["Раздел IV. Развитие видов спорта"]
["Коды по ОКЕИ: единица - 642; человек — 792"]
["Спортивные дисциплины (в соответствии с ВРВС по видам спорта инвалидов)","№ \nстроки","Численность занимающихся на этапах подготовки (чел.)",null,null,null,null,null,null,null,"из числа занимающихся (гр. 4) спортсменов-разрядников:",null,null,null,null,null,null,"Число штатных тренеров-преподавателей (чел.)"]
[null,null,"спортивного совершенствования",null,null,null,"высшего спортивного мастерства",null,null,null,"Всего (сумма граф 28, 31 - 33)","массовые разряды (юношеский, III, II, I разряды, КМС)",null,null,"МС","МСМК и гроссмейстер России","ЗМС"]
[null,null,"Спорт лиц с интеллектуальными нарушениями","Спорт слепых","Спорт глухих","Спорт ОДА","Спорт лиц с интеллектуальными нарушениями","Спорт слепых","Спорт глухих","Спорт ОДА",null,"Всего","из графы 28 \nI разряд","из графы 28 КМС",null,null,null,null,null,"Раздел4_1"]
[1,2,19,20,21,22,23,24,25,26,27,28,29,30,31,32,33,34,null,4]
["Итого\n(сумма строк 63 - 125)",53,0,0,0,0,0,0,0,0,0,0,0,0,0,0,0,0,null,{"$f":"'Раздел 4_1'!D7","v":3}]
["    в том числе из строки 53:\n    центры спортивной \n    подготовки по\n    спорту инвалидов",54,0,0,0,0,0,0,0,0,0,0,0,0,0,0,0,0,null,{"$f":"'Раздел 4_1'!D8","v":0}]
["    физкультурно-спортивные\n    клубы инвалидов",55,0,0,0,0,0,0,0,0,0,0,0,0,0,0,0,0,null,{"$f":"'Раздел 4_1'!D9","v":0}]
["    ДЮСАШ",56,0,0,0,0,0,0,0,0,0,0,0,0,0,0,0,0,null,{"$f":"'Раздел 4_1'!D10","v":0}]
["    СДЮСАШ",57,0,0,0,0,0,0,0,0,0,0,0,0,0,0,0,0,null,{"$f":"'Раздел 4_1'!D11","v":0}]
["    спортивные учреждения \n    по спорту инвалидов",58,0,0,0,0,0,0,0,0,0,0,0,0,0,0,0,0,null,{"$f":"'Раздел 4_1'!D12","v":0}]
["    училища олимпийского резерва",59,0,0,0,0,0,0,0,0,0,0,0,0,0,0,0,0,null,{"$f":"'Раздел 4_1'!D13","v":0}]
["    центры спортивной подготовки",60,0,0,0,0,0,0,0,0,0,0,0,0,0,0,0,0,null,{"$f":"'Раздел 4_1'!D14","v":0}]
["    ШВСМ, СДЮШОР, \n    ДЮСШ, ДООЦ",61,0,0,0,0,0,0,0,0,0,0,0,0,0,0,0,0,null,{"$f":"'Раздел 4_1'!D15","v":3}]
["    другие учреждения \n    и организации",62,0,0,0,0,0,0,0,0,0,0,0,0,0,0,0,0,null,{"$f":"'Раздел 4_1'!D16","v":0}]
["Академическая гребля",63,0,"X","X",0,0,"X","X",0,0,0,0,0,0,0,0,0,null,{"$f":"'Раздел 4_1'!D17","v":0}]
["Армрестлинг",64,"X","X",0,0,"X","X",0,0,0,0,0,0,0,0,0,0,null,{"$f":"'Раздел 4_1'!D18","v":0}]
["Армспорт",65,"X",0,"X","X","X",0,"X","X",0,0,0,0,0,0,0,0,null,{"$f":"'Раздел 4_1'!D19","v":0}]
["Бадминтон",66,0,"X",0,0,0,"X",0,0,0,0,0,0,0,0,0,0,null,{"$f":"'Раздел 4_1'!D20","v":0}]
["Баскетбол",67,0,"X",0,"X",0,"X",0,"X",0,0,0,0,0,0,0,0,null,{"$f":"'Раздел 4_1'!D21","v":0}]
["Баскетбол 3 х 3",68,0,"X","X","X",0,"X","X","X",0,0,0,0,0,0,0,0,null,{"$f":"'Раздел 4_1'!D22","v":0}]
["Баскетбол на колясках",69,"X","X","X",0,"X","X","X",0,0,0,0,0,0,0,0,0,null,{"$f":"'Раздел 4_1'!D23","v":0}]
["Биатлон",70,"X",0,"X",0,"X",0,"X",0,0,0,0,0,0,0,0,0,null,{"$f":"'Раздел 4_1'!D24","v":0}]
["Борьба",71,"X",0,"X","X","X",0,"X","X",0,0,0,0,0,0,0,0,null,{"$f":"'Раздел 4_1'!D25","v":0}]
["Боулинг",72,"X","X",0,"X","X","X",0,"X",0,0,0,0,0,0,0,0,null,{"$f":"'Раздел 4_1'!D26","v":0}]
["Боулинг 10",73,"X",0,"X","X","X",0,"X","X",0,0,0,0,0,0,0,0,null,{"$f":"'Раздел 4_1'!D27","v":0}]
["Бочча",74,"X","X","X",0,"X","X","X",0,0,0,0,0,0,0,0,0,null,{"$f":"'Раздел 4_1'!D28","v":0}]
["Велоспорт - маунтинбайк",75,"X","X",0,"X","X","X",0,"X",0,0,0,0,0,0,0,0,null,{"$f":"'Раздел 4_1'!D29","v":0}]
["Велоспорт - тандем",76,"X",0,"X","X","X",0,"X","X",0,0,0,0,0,0,0,0,null,{"$f":"'Раздел 4_1'!D30","v":0}]
["Велоспорт - шоссе, трек",77,0,"X",0,0,0,"X",0,0,0,0,0,0,0,0,0,0,null,{"$f":"'Раздел 4_1'!D31","v":0}]
["Волейбол 6 x 6",78,"X","X",0,"X","X","X",0,"X",0,0,0,0,0,0,0,0,null,{"$f":"'Раздел 4_1'!D32","v":0}]
["Волейбол пляжный",79,"X","X",0,"X","X","X",0,"X",0,0,0,0,0,0,0,0,null,{"$f":"'Раздел 4_1'!D33","v":0}]
["Волейбол сидя",80,"X","X","X",0,"X","X","X",0,0,0,0,0,0,0,0,0,null,{"$f":"'Раздел 4_1'!D34","v":0}]
["Вольная борьба",81,"X","X",0,"X","X","X",0,"X",0,0,0,0,0,0,0,0,null,{"$f":"'Раздел 4_1'!D35","v":0}]
["Гандбол",82,0,"X",0,"X",0,"X",0,"X",0,0,0,0,0,0,0,0,null,{"$f":"'Раздел 4_1'!D36","v":0}]
["Голбол (B1, B2, B3)",83,"X",0,"X","X","X",0,"X","X",0,0,0,0,0,0,0,0,null,{"$f":"'Раздел 4_1'!D37","v":0}]
["Гольф",84,"X","X",0,"X","X","X",0,"X",0,0,0,0,0,0,0,0,null,{"$f":"'Раздел 4_1'!D38","v":0}]
["Горнолыжный спорт",85,0,0,0,0,0,0,0,0,0,0,0,0,0,0,0,0,null,{"$f":"'Раздел 4_1'!D39","v":0}]
["Гребля на байдарках и каноэ",86,"X","X","X",0,"X","X","X",0,0,0,0,0,0,0,0,0,null,{"$f":"'Раздел 4_1'!D40","v":0}]
["Греко-римская борьба",87,"X","X",0,"X","X","X",0,"X",0,0,0,0,0,0,0,0,null,{"$f":"'Раздел 4_1'!D41","v":0}]
["Дартс",88,"X","X","X",0,"X","X","X",0,0,0,0,0,0,0,0,0,null,{"$f":"'Раздел 4_1'!D42","v":0}]
["Дзюдо",89,0,0,0,"X",0,0,0,"X",0,0,0,0,0,0,0,0,null,{"$f":"'Раздел 4_1'!D43","v":0}]
["Каратэ",90,"X","X",0,"X","X","X",0,"X",0,0,0,0,0,0,0,0,null,{"$f":"'Раздел 4_1'!D44","v":0}]
["Керлинг 4 x 4",91,"X","X",0,"X","X","X",0,"X",0,0,0,0,0,0,0,0,null,{"$f":"'Раздел 4_1'!D45","v":0}]
["Керлинг на колясках",92,"X","X","X",0,"X","X","X",0,0,0,0,0,0,0,0,0,null,{"$f":"'Раздел 4_1'!D46","v":0}]
["Конный спорт",93,0,"X","X",0,0,"X","X",0,0,0,0,0,0,0,0,0,null,{"$f":"'Раздел 4_1'!D47","v":0}]
["Легкая атлетика",94,0,0,0,0,0,0,0,0,0,0,0,0,0,0,0,0,null,{"$f":"'Раздел 4_1'!D48","v":0}]
["Лыжные гонки",95,0,0,0,0,0,0,0,0,0,0,0,0,0,0,0,0,null,{"$f":"'Раздел 4_1'!D49","v":0}]
["Мини-футбол (футзал)",96,0,"X",0,"X",0,"X",0,"X",0,0,0,0,0,0,0,0,null,{"$f":"'Раздел 4_1'!D50","v":0}]
["Мини-футбол (футзал) 5 x 5 (B1, B2, B3)",97,"X",0,"X","X","X",0,"X","X",0,0,0,0,0,0,0,0,null,{"$f":"'Раздел 4_1'!D51","v":0}]
["Настольный теннис",98,0,0,0,0,0,0,0,0,0,0,0,0,0,0,0,0,null,{"$f":"'Раздел 4_1'!D52","v":0}]
["Парусный спорт",99,"X","X","X",0,"X","X","X",0,0,0,0,0,0,0,0,0,null,{"$f":"'Раздел 4_1'!D53","v":0}]
["Пауэрлифтинг",100,0,0,"X",0,0,0,"X",0,0,0,0,0,0,0,0,0,null,{"$f":"'Раздел 4_1'!D54","v":0}]
["Плавание",101,0,0,0,0,0,0,0,0,0,0,0,0,0,0,0,0,null,{"$f":"'Раздел 4_1'!D55","v":0}]
["Пулевая стрельба",102,"X",0,0,0,"X",0,0,0,0,0,0,0,0,0,0,0,null,{"$f":"'Раздел 4_1'!D56","v":0}]
["Самбо",103,"X",0,0,"X","X",0,0,"X",0,0,0,0,0,0,0,0,null,{"$f":"'Раздел 4_1'!D57","v":0}]
["Сноуборд",104,"X","X",0,0,"X","X",0,0,0,0,0,0,0,0,0,0,null,{"$f":"'Раздел 4_1'!D58","v":0}]
["Спортивная гимнастика",105,0,"X","X","X",0,"X","X","X",0,0,0,0,0,0,0,0,null,{"$f":"'Раздел 4_1'!D59","v":0}]
["Регби на колясках",106,"X","X","X",0,"X","X","X",0,0,0,0,0,0,0,0,0,null,{"$f":"'Раздел 4_1'!D60","v":0}]
["Спортивное ориентирование",107,"X","X",0,0,"X","X",0,0,0,0,0,0,0,0,0,0,null,{"$f":"'Раздел 4_1'!D61","v":0}]
["Спортивный туризм",108,"X",0,"X","X","X",0,"X","X",0,0,0,0,0,0,0,0,null,{"$f":"'Раздел 4_1'!D62","v":0}]
["Стрельба из лука",109,"X","X","X",0,"X","X","X",0,0,0,0,0,0,0,0,0,null,{"$f":"'Раздел 4_1'!D63","v":3}]
["Танцы на колясках",110,"X","X","X",0,"X","X","X",0,0,0,0,0,0,0,0,0,null,{"$f":"'Раздел 4_1'!D64","v":0}]
["Теннис",111,0,"X",0,"X",0,"X",0,"X",0,0,0,0,0,0,0,0,null,{"$f":"'Раздел 4_1'!D65","v":0}]
["Теннис на колясках",112,"X","X","X",0,"X","X","X",0,0,0,0,0,0,0,0,0,null,{"$f":"'Раздел 4_1'!D66","v":0}]
["Триатлон",113,"X","X","X",0,"X","X","X",0,0,0,0,0,0,0,0,0,null,{"$f":"'Раздел 4_1'!D67","v":0}]
["Торбал (B1, B2, B3)",114,"X",0,"X","X","X",0,"X","X",0,0,0,0,0,0,0,0,null,{"$f":"'Раздел 4_1'!D68","v":0}]
["Тхэквондо",115,0,"X",0,0,0,"X",0,0,0,0,0,0,0,0,0,0,null,{"$f":"'Раздел 4_1'!D69","v":0}]
["Фехтование",116,"X","X","X",0,"X","X","X",0,0,0,0,0,0,0,0,0,null,{"$f":"'Раздел 4_1'!D70","v":0}]
["Футбол",117,0,"X","X","X",0,"X","X","X",0,0,0,0,0,0,0,0,null,{"$f":"'Раздел 4_1'!D71","v":0}]
["Футбол 11 x 11",118,"X","X",0,"X","X","X",0,"X",0,0,0,0,0,0,0,0,null,{"$f":"'Раздел 4_1'!D72","v":0}]
["Футбол ампутантов",119,"X","X","X",0,"X","X","X",0,0,0,0,0,0,0,0,0,null,{"$f":"'Раздел 4_1'!D73","v":0}]
["Футбол лиц с заболеванием ЦП",120,"X","X","X",0,"X","X","X",0,0,0,0,0,0,0,0,0,null,{"$f":"'Раздел 4_1'!D74","v":0}]
["Хоккей (6 x 6)",121,"X","X",0,"X","X","X",0,"X",0,0,0,0,0,0,0,0,null,{"$f":"'Раздел 4_1'!D75","v":0}]
["Хоккей-следж",122,"X","X","X",0,"X","X","X",0,0,0,0,0,0,0,0,0,null,{"$f":"'Раздел 4_1'!D76","v":0}]
["Шахматы",123,"X",0,0,0,"X",0,0,0,0,0,0,0,0,0,0,0,null,{"$f":"'Раздел 4_1'!D77","v":0}]
["Шашки",124,"X",0,0,0,"X",0,0,0,0,0,0,0,0,0,0,0,null,{"$f":"'Раздел 4_1'!D78","v":0}]
["Другие виды спорта (спортивные дисциплины), не входящие в виды спорта инвалидов",125,0,0,0,0,0,0,0,0,0,0,0,0,0,0,0,0,null,{"$f":"'Раздел 4_1'!D79","v":0}]
["Из строки 53 - в сельской местности",126,0,0,0,0,0,0,0,0,0,0,0,0,0,0,0,0,null,{"$f":"'Раздел 4_1'!D80","v":1}]

{"sheet":"Раздел 5","index":6,"n_rows":7,"n_cols":20,"rows_kept":7,"cut":false,"hidden":false,"merged":[[3,19,4,19],[1,0,1,19],[0,0,0,19],[2,0,4,0],[2,1,4,1],[2,3,3,15],[3,16,3,18],[2,16,2,19],[2,2,4,2]]}
["Раздел V. Численность занимающихся по программам спортивной подготовки в физкультурно-спортивных организациях детей-инвалидов в возрасте от 5 до 18 лет"]
["Коды по ОКЕИ: человек - 792"]
["Наименование показателя","№ \nстроки","Всего","Возрастной состав занимающихся (число полных лет по состоянию на 31 декабря отчетного года)",null,null,null,null,null,null,null,null,null,null,null,null,"Распределение численности занимающихся по источникам финансирования"]
[null,null,null,null,null,null,null,null,null,null,null,null,null,null,null,null,"За счет бюджетных ассигнований:",null,null,"По договорам об оказании платных образовательных услуг, услуг по спортивной подготовке"]
[null,null,null,5,6,7,8,9,10,11,12,13,14,15,16,17,"федерального бюджета","бюджета субъекта Российской Федерации","местного бюджета"]
[1,2,3,4,5,6,7,8,9,10,11,12,13,14,15,16,17,18,19,20]
["Численность занимающихся по программам спортивной подготовки в физкультурно-спортивных организациях",127,0,0,0,0,0,0,0,0,0,0,0,0,0,0,0,0,0,0]

{"sheet":"Раздел 6","index":7,"n_rows":22,"n_cols":7,"rows_kept":22,"cut":false,"hidden":false,"merged":[[21,1,21,2],[21,3,21,4],[21,5,21,6],[20,1,20,2],[20,3,20,4],[20,5,20,6],[17,1,17,2],[17,3,17,4],[17,5,17,6],[18,1,18,2],[0,0,0,6],[1,0,1,6],[2,0,3,0],[2,1,3,1],[2,2,3,2],[2,3,2,6],[18,3,18,4],[18,5,18,6]]}
["Раздел VI. Спортивное мастерство среди инвалидов"]
["Код по ОКЕИ: человек — 792"]
["Разряды, звания, награды","№ строки","Всего","из них (гр. 3): "]
[null,null,null,"Спорт лиц с интеллектуальными нарушениями","Спорт слепых","Спорт глухих","Спорт лиц с поражением ОДА"]
[1,2,3,4,5,6,7]
["Присвоено званий - всего \n(сумма строк 129 - 131)",128,0,0,0,0,0]
["в том числе:\n- МС",129,0,0,0,0,0]
["- МСМК и Гроссмейстер России",130,0,0,0,0,0]
["- ЗМС",131,0,0,0,0,0]
["Подготовлено спортсменов массовых разрядов",132,15,15,0,0,0]
["из них:\n- КМС",133,0,0,0,0,0]
["- I разряд",134,9,1,1,0,7]
["Присвоено званий - ЗТР",135,0,0,0,0,0]
["Присвоено званий - ЗРФК",136,0,0,0,0,0]
["Присуждены другие государственные почетные звания и награды",137,0,0,0,0,0]
["Присуждены почетные звания и награды субъекта Российской Федерации",138,0,0,0,0,0]
[]
["Должностное лицо, ответственное за предоставление первичных статистических данных (лицо, уполномоченное предоставлять первичные статистические  данные от имени юридического лица)               \n","Министр",null,"Серёдкин Андрей Константинович "]
[null,"(должность)",null,"(Ф.И.О.)",null,"(подпись)"]
[]
[null,"8(3022)400 954",null,"sportmasszab@bk.ru",null,"2024-01-29"]
[null,"(номер контактного телефона) ",null,"E-mail:",null,"(дата составления документа) "]